BEGIN:VCALENDAR
VERSION:2.0
PRODID:-//Sabre//Sabre VObject 4.5.8//EN
CALSCALE:GREGORIAN
BEGIN:VEVENT
UID:sabre-vobject-2ecad061-2c5c-47e1-a0e4-ee189f6dd09e
DTSTAMP:20260426T005644Z
SUMMARY:Bibelabend
DESCRIPTION:https://pfarreien-bistum-augsburg.df-preview.de/bibelabend_id17
 56459
DTSTART;TZID=Europe/Berlin:20260513T194500
DURATION:PT30M
LOCATION:Mariä Himmelfahrt
END:VEVENT
END:VCALENDAR
