BEGIN:VCALENDAR
VERSION:2.0
PRODID:-//Sabre//Sabre VObject 4.5.8//EN
CALSCALE:GREGORIAN
BEGIN:VEVENT
UID:sabre-vobject-1915c252-f8ab-476e-9531-d970fcda03d8
DTSTAMP:20260425T131306Z
SUMMARY:Maiandacht\, gestaltet vom Trachtenverein und der Musikkapelle Schw
 arzenberg
DESCRIPTION:https://pfarreien-bistum-augsburg.df-preview.de/maiandacht-gest
 altet-vom-trachtenverein-und-der-musikkapelle-schwarzenberg_id1756443
DTSTART;TZID=Europe/Berlin:20260521T193000
DURATION:PT30M
LOCATION:Maria Immaculata\, Hs.-Nr. 14\, 87466 Oy-Mittelberg
END:VEVENT
END:VCALENDAR
