BEGIN:VCALENDAR
VERSION:2.0
PRODID:-//Sabre//Sabre VObject 4.5.8//EN
CALSCALE:GREGORIAN
BEGIN:VEVENT
UID:sabre-vobject-246201eb-158f-49fd-b659-034ad3d53e37
DTSTAMP:20260424T200500Z
SUMMARY:Heilige Messe entfällt
DESCRIPTION:https://pfarreien-bistum-augsburg.df-preview.de/heilige-messe-e
 ntfaellt_id1756418
DTSTART;TZID=Europe/Berlin:20260529T083000
DURATION:PT30M
LOCATION:St. Blasius
END:VEVENT
END:VCALENDAR
