BEGIN:VCALENDAR
VERSION:2.0
PRODID:-//Sabre//Sabre VObject 4.5.8//EN
CALSCALE:GREGORIAN
BEGIN:VEVENT
UID:sabre-vobject-bfc45839-5c41-4ccc-96cf-ff993417149b
DTSTAMP:20260425T193603Z
SUMMARY:Vorabendmesse\, musik. Gestaltung: Cantabile
DESCRIPTION:https://pfarreien-bistum-augsburg.df-preview.de/vorabendmesse-m
 usik-gestaltung-cantabile_id1756402
DTSTART;TZID=Europe/Berlin:20260516T190000
DURATION:PT30M
LOCATION:St. Ulrich
END:VEVENT
END:VCALENDAR
