BEGIN:VCALENDAR
VERSION:2.0
PRODID:-//Sabre//Sabre VObject 4.5.8//EN
CALSCALE:GREGORIAN
BEGIN:VEVENT
UID:sabre-vobject-752c5457-73d2-4ad8-9d57-5c22f53a918b
DTSTAMP:20260425T155857Z
SUMMARY:Maiandacht in Mariä Heimsuchung in Vorderreute
DESCRIPTION:https://pfarreien-bistum-augsburg.df-preview.de/maiandacht-in-m
 ariae-heimsuchung-in-vorderreute_id1756396
DTSTART;TZID=Europe/Berlin:20260529T193000
DURATION:PT30M
LOCATION:St. Ulrich
END:VEVENT
END:VCALENDAR
