BEGIN:VCALENDAR
VERSION:2.0
PRODID:-//Sabre//Sabre VObject 4.5.8//EN
CALSCALE:GREGORIAN
BEGIN:VEVENT
UID:sabre-vobject-0f34c51c-9f08-4bda-8b0b-cafa77cc4009
DTSTAMP:20260425T205357Z
SUMMARY:Festgottesdienst zum Hochfest Christi Himmelfahrt und anschl. Segnu
 ng der Feuerwehrpumpe
DESCRIPTION:https://pfarreien-bistum-augsburg.df-preview.de/festgottesdiens
 t-zum-hochfest-christi-himmelfahrt-und-anschl-segnung-der-feuerwehrpumpe_i
 d1756377
DTSTART;TZID=Europe/Berlin:20260514T100000
DURATION:PT30M
LOCATION:Maria Immaculata\, Hs.-Nr. 14\, 87466 Oy-Mittelberg
END:VEVENT
END:VCALENDAR
