BEGIN:VCALENDAR
VERSION:2.0
PRODID:-//Sabre//Sabre VObject 4.5.8//EN
CALSCALE:GREGORIAN
BEGIN:VEVENT
UID:sabre-vobject-2150a542-5cba-4060-bf9c-dacb67d27e6d
DTSTAMP:20260424T110232Z
SUMMARY:Hl. Messe für die Verstorbenen des Monat März: Johanna Gerke\, Ma
 nfred Fietz\, Sophia Kirner\, Heinrich Vogelgsang\, Brigitte Bobinger\, Si
 eglinde Dembinski\,
DESCRIPTION:https://pfarreien-bistum-augsburg.df-preview.de/hl-messe-fuer-d
 ie-verstorbenen-des-monat-maerz-johanna-gerke-manfred-fietz-sophia-kirner-
 heinrich-vogelgsang-brigitte-bobinger-sieglinde-dembinski_id1756370
DTSTART;TZID=Europe/Berlin:20260521T183000
DURATION:PT30M
LOCATION:St. Felizitas
END:VEVENT
END:VCALENDAR
