BEGIN:VCALENDAR
VERSION:2.0
PRODID:-//Sabre//Sabre VObject 4.5.8//EN
CALSCALE:GREGORIAN
BEGIN:VEVENT
UID:sabre-vobject-ed5a9858-39f2-4631-aaf8-a368e6dd2927
DTSTAMP:20260425T023417Z
SUMMARY:Festmesse\, anschließend Flurumgang
DESCRIPTION:https://pfarreien-bistum-augsburg.df-preview.de/festmesse-ansch
 liessend-flurumgang_id1756312
DTSTART;TZID=Europe/Berlin:20260514T084500
DURATION:PT30M
LOCATION:St. Vitus
END:VEVENT
END:VCALENDAR
