BEGIN:VCALENDAR
VERSION:2.0
PRODID:-//Sabre//Sabre VObject 4.5.8//EN
CALSCALE:GREGORIAN
BEGIN:VEVENT
UID:sabre-vobject-6896d9d3-8a52-4e94-ae32-90c23a917202
DTSTAMP:20260425T023311Z
SUMMARY:Festgottesdienst (musikalisch gestaltet vom Kirchenchor Burgau mit 
 der Gen-Rosso-Messe)
DESCRIPTION:https://pfarreien-bistum-augsburg.df-preview.de/festgottesdiens
 t-musikalisch-gestaltet-vom-kirchenchor-burgau-mit-der-gen-rosso-messe_id1
 756307
DTSTART;TZID=Europe/Berlin:20260524T100000
DURATION:PT30M
LOCATION:Mariä Himmelfahrt
END:VEVENT
END:VCALENDAR
