BEGIN:VCALENDAR
VERSION:2.0
PRODID:-//Sabre//Sabre VObject 4.5.8//EN
CALSCALE:GREGORIAN
BEGIN:VEVENT
UID:sabre-vobject-e0e33398-b9d7-45d9-93c8-682404f7759a
DTSTAMP:20260425T143529Z
SUMMARY:Taufe - Paulina Dioses
DESCRIPTION:https://pfarreien-bistum-augsburg.df-preview.de/taufe-paulina-d
 ioses_id1756264
DTSTART;TZID=Europe/Berlin:20260516T130000
DURATION:PT30M
LOCATION:St. Felizitas
END:VEVENT
END:VCALENDAR
