BEGIN:VCALENDAR
VERSION:2.0
PRODID:-//Sabre//Sabre VObject 4.5.8//EN
CALSCALE:GREGORIAN
BEGIN:VEVENT
UID:sabre-vobject-6a70e025-f3ad-44fb-bcce-0f191c1d15be
DTSTAMP:20260425T165657Z
SUMMARY:Sternwallfahrt zum Kreuzsonntag
DESCRIPTION:https://pfarreien-bistum-augsburg.df-preview.de/sternwallfahrt-
 zum-kreuzsonntag_id1756236
DTSTART;TZID=Europe/Berlin:20260517T074500
DURATION:PT30M
LOCATION:Mariä Himmelfahrt
END:VEVENT
END:VCALENDAR
