BEGIN:VCALENDAR
VERSION:2.0
PRODID:-//Sabre//Sabre VObject 4.5.8//EN
CALSCALE:GREGORIAN
BEGIN:VEVENT
UID:sabre-vobject-65f10f7a-a71c-41c2-9dab-3bfdd7743ecc
DTSTAMP:20260425T233807Z
SUMMARY:Hl. Taufe von Lina Neumann
DESCRIPTION:https://pfarreien-bistum-augsburg.df-preview.de/hl-taufe-von-li
 na-neumann_id1756233
DTSTART;TZID=Europe/Berlin:20260516T140000
DURATION:PT30M
LOCATION:Mariä Himmelfahrt
END:VEVENT
END:VCALENDAR
