BEGIN:VCALENDAR
VERSION:2.0
PRODID:-//Sabre//Sabre VObject 4.5.8//EN
CALSCALE:GREGORIAN
BEGIN:VEVENT
UID:sabre-vobject-91c7871c-4c14-47f7-9e54-2a37ffac7a9f
DTSTAMP:20260426T010204Z
SUMMARY:Kreuzweg in der Leonhardskapelle
DESCRIPTION:https://pfarreien-bistum-augsburg.df-preview.de/kreuzweg-in-der
 -leonhardskapelle_id1756232
DTSTART;TZID=Europe/Berlin:20260515T151500
DURATION:PT30M
LOCATION:Mariä Himmelfahrt
END:VEVENT
END:VCALENDAR
