BEGIN:VCALENDAR
VERSION:2.0
PRODID:-//Sabre//Sabre VObject 4.5.8//EN
CALSCALE:GREGORIAN
BEGIN:VEVENT
UID:sabre-vobject-77ab18a5-0303-4630-b0bb-350b252514bb
DTSTAMP:20260425T034120Z
SUMMARY:Anbetungsstunde der Jugend in der Leonhardskapelle
DESCRIPTION:https://pfarreien-bistum-augsburg.df-preview.de/anbetungsstunde
 -der-jugend-in-der-leonhardskapelle_id1756170
DTSTART;TZID=Europe/Berlin:20260427T180000
DURATION:PT30M
LOCATION:Mariä Himmelfahrt
END:VEVENT
END:VCALENDAR
