BEGIN:VCALENDAR
VERSION:2.0
PRODID:-//Sabre//Sabre VObject 4.5.8//EN
CALSCALE:GREGORIAN
BEGIN:VEVENT
UID:sabre-vobject-81d89cc7-e5fc-4f6c-a7af-c90e5014ca42
DTSTAMP:20260424T210858Z
SUMMARY:Festmesse zu Pfingsten
DESCRIPTION:https://pfarreien-bistum-augsburg.df-preview.de/festmesse-zu-pf
 ingsten_id1756118
DTSTART;TZID=Europe/Berlin:20260524T071500
DURATION:PT30M
LOCATION:St. Vitus
END:VEVENT
END:VCALENDAR
