BEGIN:VCALENDAR
VERSION:2.0
PRODID:-//Sabre//Sabre VObject 4.5.8//EN
CALSCALE:GREGORIAN
BEGIN:VEVENT
UID:sabre-vobject-c8b267da-681f-407f-a79d-3b29fbe5d840
DTSTAMP:20260424T111855Z
SUMMARY:Hl. Messopfer
DESCRIPTION:https://pfarreien-bistum-augsburg.df-preview.de/hl-messopfer_id
 1756010
DTSTART;TZID=Europe/Berlin:20260521T073000
DURATION:PT30M
LOCATION:Wallfahrtsdirektion Mariä Schmerzen
END:VEVENT
END:VCALENDAR
