BEGIN:VCALENDAR
VERSION:2.0
PRODID:-//Sabre//Sabre VObject 4.5.8//EN
CALSCALE:GREGORIAN
BEGIN:VEVENT
UID:sabre-vobject-83b5d641-4690-4701-9b6a-fd41eb045c0d
DTSTAMP:20260424T110938Z
SUMMARY:Hl. Messopfer
DESCRIPTION:https://pfarreien-bistum-augsburg.df-preview.de/hl-messopfer_id
 1756009
DTSTART;TZID=Europe/Berlin:20260520T191500
DURATION:PT30M
LOCATION:Wallfahrtsdirektion Mariä Schmerzen
END:VEVENT
END:VCALENDAR
