BEGIN:VCALENDAR
VERSION:2.0
PRODID:-//Sabre//Sabre VObject 4.5.8//EN
CALSCALE:GREGORIAN
BEGIN:VEVENT
UID:sabre-vobject-cd0848e9-d8bb-4b01-a334-d594d7acf4ce
DTSTAMP:20260424T215019Z
SUMMARY:Pilgeramt für die lebenden u. verstorbenen Wohltäter der Wallfahr
 t
DESCRIPTION:https://pfarreien-bistum-augsburg.df-preview.de/pilgeramt-fuer-
 die-lebenden-u-verstorbenen-wohltaeter-der-wallfahrt_id1755999
DTSTART;TZID=Europe/Berlin:20260524T101500
DURATION:PT30M
LOCATION:Wallfahrtsdirektion Mariä Schmerzen
END:VEVENT
END:VCALENDAR
