BEGIN:VCALENDAR
VERSION:2.0
PRODID:-//Sabre//Sabre VObject 4.5.8//EN
CALSCALE:GREGORIAN
BEGIN:VEVENT
UID:sabre-vobject-5e8e90b9-44e3-4a82-a2ee-fa4cb547ac12
DTSTAMP:20260424T211437Z
SUMMARY:Festgottesdienst
DESCRIPTION:https://pfarreien-bistum-augsburg.df-preview.de/festgottesdiens
 t_id1755901
DTSTART;TZID=Europe/Berlin:20260604T190000
DURATION:PT30M
LOCATION:St. Blasius
END:VEVENT
END:VCALENDAR
