BEGIN:VCALENDAR
VERSION:2.0
PRODID:-//Sabre//Sabre VObject 4.5.8//EN
CALSCALE:GREGORIAN
BEGIN:VEVENT
UID:sabre-vobject-0fb02093-9ed3-4f31-b180-0278647fd0e0
DTSTAMP:20260425T155028Z
SUMMARY:Fußwallfahrt nach Buggenhofen\, Treffpunkt: BayWa
DESCRIPTION:https://pfarreien-bistum-augsburg.df-preview.de/fusswallfahrt-n
 ach-buggenhofen-treffpunkt-baywa_id1755871
DTSTART;TZID=Europe/Berlin:20260514T050000
DURATION:PT30M
LOCATION:Mariä Himmelfahrt
END:VEVENT
END:VCALENDAR
