BEGIN:VCALENDAR
VERSION:2.0
PRODID:-//Sabre//Sabre VObject 4.5.8//EN
CALSCALE:GREGORIAN
BEGIN:VEVENT
UID:sabre-vobject-f86b0a5a-42d9-4c2e-934f-a5944b516628
DTSTAMP:20260424T225934Z
SUMMARY:Laudes
DESCRIPTION:https://pfarreien-bistum-augsburg.df-preview.de/laudes_id175582
 7
DTSTART;TZID=Europe/Berlin:20260519T083000
DURATION:PT30M
LOCATION:Mariä Himmelfahrt
END:VEVENT
END:VCALENDAR
