BEGIN:VCALENDAR
VERSION:2.0
PRODID:-//Sabre//Sabre VObject 4.5.8//EN
CALSCALE:GREGORIAN
BEGIN:VEVENT
UID:sabre-vobject-fbd2efaa-3227-47d1-b2f3-c7651c4b22e3
DTSTAMP:20260425T013925Z
SUMMARY:Hl. Messe
DESCRIPTION:https://pfarreien-bistum-augsburg.df-preview.de/hl-messe_id1755
 773
DTSTART;TZID=Europe/Berlin:20260425T170000
DURATION:PT30M
LOCATION:Heilig Geist
END:VEVENT
END:VCALENDAR
