BEGIN:VCALENDAR
VERSION:2.0
PRODID:-//Sabre//Sabre VObject 4.5.8//EN
CALSCALE:GREGORIAN
BEGIN:VEVENT
UID:sabre-vobject-0a10349e-f4b6-4375-b81e-9201b862f25a
DTSTAMP:20260423T211028Z
SUMMARY:Pilgermesse in den Anliegen der Pilger\;
DESCRIPTION:https://pfarreien-bistum-augsburg.df-preview.de/pilgermesse-in-
 den-anliegen-der-pilger_id1755731
DTSTART;TZID=Europe/Berlin:20260423T101500
DURATION:PT30M
LOCATION:Wallfahrtsdirektion Mariä Schmerzen
END:VEVENT
END:VCALENDAR
