BEGIN:VCALENDAR
VERSION:2.0
PRODID:-//Sabre//Sabre VObject 4.5.8//EN
CALSCALE:GREGORIAN
BEGIN:VEVENT
UID:sabre-vobject-f550d9d2-1617-45d0-808f-49ef7dd25627
DTSTAMP:20260424T000738Z
SUMMARY:Rosenkranz
DESCRIPTION:https://pfarreien-bistum-augsburg.df-preview.de/rosenkranz_id17
 55599
DTSTART;TZID=Europe/Berlin:20260429T173000
DURATION:PT30M
LOCATION:Mariä Himmelfahrt\, Abteistraße 6\, 86687 Kaisheim
END:VEVENT
END:VCALENDAR
