BEGIN:VCALENDAR
VERSION:2.0
PRODID:-//Sabre//Sabre VObject 4.5.8//EN
CALSCALE:GREGORIAN
BEGIN:VEVENT
UID:sabre-vobject-ad4a6fb3-a7a4-415a-933d-016d2d204e6d
DTSTAMP:20260423T143846Z
SUMMARY:Hl. Messe anschl. Eucharistische Anbetung (besonders gestaltet für
  die Firmlinge)
DESCRIPTION:https://pfarreien-bistum-augsburg.df-preview.de/hl-messe-anschl
 -eucharistische-anbetung-besonders-gestaltet-fuer-die-firmlinge_id1755510
DTSTART;TZID=Europe/Berlin:20260521T190000
DURATION:PT30M
LOCATION:St. Alban
END:VEVENT
END:VCALENDAR
