BEGIN:VCALENDAR
VERSION:2.0
PRODID:-//Sabre//Sabre VObject 4.5.8//EN
CALSCALE:GREGORIAN
BEGIN:VEVENT
UID:sabre-vobject-9c16470e-254e-47d8-b723-9c562e07922b
DTSTAMP:20260425T151616Z
SUMMARY:Hl. Messe mit Verabschiedung und Einführung des Pfarrgemeinderates
  und Vorstellung der Firmlinge
DESCRIPTION:https://pfarreien-bistum-augsburg.df-preview.de/hl-messe-mit-ve
 rabschiedung-und-einfuehrung-des-pfarrgemeinderates-und-vorstellung-der-fi
 rmlinge_id1755497
DTSTART;TZID=Europe/Berlin:20260517T103000
DURATION:PT30M
LOCATION:St. Alban
END:VEVENT
END:VCALENDAR
