BEGIN:VCALENDAR
VERSION:2.0
PRODID:-//Sabre//Sabre VObject 4.5.8//EN
CALSCALE:GREGORIAN
BEGIN:VEVENT
UID:sabre-vobject-f5c0def5-1854-48d7-995b-4b28a7c66e12
DTSTAMP:20260425T201352Z
SUMMARY:Engratsried: Bittmesse
DESCRIPTION:https://pfarreien-bistum-augsburg.df-preview.de/engratsried-bit
 tmesse_id1755493
DTSTART;TZID=Europe/Berlin:20260513T190000
DURATION:PT30M
LOCATION:St. Alban
END:VEVENT
END:VCALENDAR
