BEGIN:VCALENDAR
VERSION:2.0
PRODID:-//Sabre//Sabre VObject 4.5.8//EN
CALSCALE:GREGORIAN
BEGIN:VEVENT
UID:sabre-vobject-19bb5775-dca9-420c-93ba-15272e27146f
DTSTAMP:20260424T025335Z
SUMMARY:Festmesse anschl. kurze Maiandacht
DESCRIPTION:https://pfarreien-bistum-augsburg.df-preview.de/festmesse-ansch
 l-kurze-maiandacht_id1755461
DTSTART;TZID=Europe/Berlin:20260501T190000
DURATION:PT30M
LOCATION:Mariä Himmelfahrt
END:VEVENT
END:VCALENDAR
