BEGIN:VCALENDAR
VERSION:2.0
PRODID:-//Sabre//Sabre VObject 4.5.8//EN
CALSCALE:GREGORIAN
BEGIN:VEVENT
UID:sabre-vobject-38f2f280-83fa-4516-9563-c547ed2f0369
DTSTAMP:20260423T123645Z
SUMMARY:Hl. Messe zum Bruderschaftsfest St. Josef - mit Dankopfer der Erstk
 ommunionkinder\, Übergabe der Urkunden und Segnung der Andachtsgegenstän
 de - anschließend Prozession
DESCRIPTION:https://pfarreien-bistum-augsburg.df-preview.de/hl-messe-zum-br
 uderschaftsfest-st-josef-mit-dankopfer-der-erstkommunionkinder-uebergabe-d
 er-urkunden-und-segnung-der-andachtsgegenstaende-anschliessend-prozession_
 id1755454
DTSTART;TZID=Europe/Berlin:20260426T101500
DURATION:PT30M
LOCATION:St. Martin
END:VEVENT
END:VCALENDAR
