BEGIN:VCALENDAR
VERSION:2.0
PRODID:-//Sabre//Sabre VObject 4.5.8//EN
CALSCALE:GREGORIAN
BEGIN:VEVENT
UID:sabre-vobject-45e76aa0-6d18-44e0-936c-57870cd76913
DTSTAMP:20260426T023453Z
SUMMARY:Weibletshofen: Bittmesse
DESCRIPTION:https://pfarreien-bistum-augsburg.df-preview.de/weibletshofen-b
 ittmesse_id1755398
DTSTART;TZID=Europe/Berlin:20260512T190000
DURATION:PT30M
LOCATION:St. Michael
END:VEVENT
END:VCALENDAR
