BEGIN:VCALENDAR
VERSION:2.0
PRODID:-//Sabre//Sabre VObject 4.5.8//EN
CALSCALE:GREGORIAN
BEGIN:VEVENT
UID:sabre-vobject-5ef5533d-09a9-4a7e-a9e5-d79ea51c6e93
DTSTAMP:20260424T182747Z
SUMMARY:Rosenkranz in den Anliegen des Papstes
DESCRIPTION:https://pfarreien-bistum-augsburg.df-preview.de/rosenkranz-in-d
 en-anliegen-des-papstes_id1755358
DTSTART;TZID=Europe/Berlin:20260428T183000
DURATION:PT30M
LOCATION:St. Mauritius
END:VEVENT
END:VCALENDAR
