BEGIN:VCALENDAR
VERSION:2.0
PRODID:-//Sabre//Sabre VObject 4.5.8//EN
CALSCALE:GREGORIAN
BEGIN:VEVENT
UID:sabre-vobject-e82e08f6-a3d9-4e00-aa2f-266c2fcb15ba
DTSTAMP:20260423T200504Z
SUMMARY:Maiandacht musik. gest. "Saitnblasn"
DESCRIPTION:https://pfarreien-bistum-augsburg.df-preview.de/maiandacht-musi
 k-gest-saitnblasn_id1755225
DTSTART;TZID=Europe/Berlin:20260531T180000
DURATION:PT30M
LOCATION:Christkönig
END:VEVENT
END:VCALENDAR
