BEGIN:VCALENDAR
VERSION:2.0
PRODID:-//Sabre//Sabre VObject 4.5.8//EN
CALSCALE:GREGORIAN
BEGIN:VEVENT
UID:sabre-vobject-211fe91c-85d8-45ac-9671-d3e9fefcf895
DTSTAMP:20260424T152032Z
SUMMARY:Sprechstunde von Pfarrer Huber
DESCRIPTION:https://pfarreien-bistum-augsburg.df-preview.de/sprechstunde-vo
 n-pfarrer-huber_id1755210
DTSTART;TZID=Europe/Berlin:20260430T160000
DURATION:PT30M
LOCATION:Basilica minor St. Michael
END:VEVENT
END:VCALENDAR
