BEGIN:VCALENDAR
VERSION:2.0
PRODID:-//Sabre//Sabre VObject 4.5.8//EN
CALSCALE:GREGORIAN
BEGIN:VEVENT
UID:sabre-vobject-9defc975-36a3-4009-9131-ad4440c2765f
DTSTAMP:20260424T041314Z
SUMMARY:Bittmesse
DESCRIPTION:https://pfarreien-bistum-augsburg.df-preview.de/bittmesse_id175
 5208
DTSTART;TZID=Europe/Berlin:20260511T190000
DURATION:PT30M
LOCATION:Heilig Kreuz\, Hs.-Nr. 18\, 82272 Purk
END:VEVENT
END:VCALENDAR
