BEGIN:VCALENDAR
VERSION:2.0
PRODID:-//Sabre//Sabre VObject 4.5.8//EN
CALSCALE:GREGORIAN
BEGIN:VEVENT
UID:sabre-vobject-ebd3f1f7-da46-4cf4-95f3-58bd0a142acb
DTSTAMP:20260424T195559Z
SUMMARY:Beichtgelegenheit
DESCRIPTION:https://pfarreien-bistum-augsburg.df-preview.de/beichtgelegenhe
 it_id1755200
DTSTART;TZID=Europe/Berlin:20260530T170000
DURATION:PT30M
LOCATION:Christkönig
END:VEVENT
END:VCALENDAR
