BEGIN:VCALENDAR
VERSION:2.0
PRODID:-//Sabre//Sabre VObject 4.5.8//EN
CALSCALE:GREGORIAN
BEGIN:VEVENT
UID:sabre-vobject-4f928178-acc2-452b-9c07-361c1d1dd715
DTSTAMP:20260424T154340Z
SUMMARY:Rosenkranz
DESCRIPTION:https://pfarreien-bistum-augsburg.df-preview.de/rosenkranz_id17
 55199
DTSTART;TZID=Europe/Berlin:20260530T170000
DURATION:PT30M
LOCATION:Christkönig
END:VEVENT
END:VCALENDAR
