BEGIN:VCALENDAR
VERSION:2.0
PRODID:-//Sabre//Sabre VObject 4.5.8//EN
CALSCALE:GREGORIAN
BEGIN:VEVENT
UID:sabre-vobject-c5e09c2f-998a-4ef8-9191-e0acf2ae3010
DTSTAMP:20260424T130116Z
SUMMARY:Eucharistiefeier entfällt
DESCRIPTION:https://pfarreien-bistum-augsburg.df-preview.de/eucharistiefeie
 r-entfaellt_id1755188
DTSTART;TZID=Europe/Berlin:20260527T190000
DURATION:PT30M
LOCATION:Kuratie Maria Himmelfahrt\, Nantesbuch 1\, 82377 Nantesbuch
END:VEVENT
END:VCALENDAR
