BEGIN:VCALENDAR
VERSION:2.0
PRODID:-//Sabre//Sabre VObject 4.5.8//EN
CALSCALE:GREGORIAN
BEGIN:VEVENT
UID:sabre-vobject-89551545-2eaa-48fa-a48c-24fb29f7d017
DTSTAMP:20260424T141801Z
SUMMARY:Laudes
DESCRIPTION:https://pfarreien-bistum-augsburg.df-preview.de/laudes_id175512
 5
DTSTART;TZID=Europe/Berlin:20260428T081500
DURATION:PT30M
LOCATION:Basilica minor St. Michael
END:VEVENT
END:VCALENDAR
