BEGIN:VCALENDAR
VERSION:2.0
PRODID:-//Sabre//Sabre VObject 4.5.8//EN
CALSCALE:GREGORIAN
BEGIN:VEVENT
UID:sabre-vobject-b5b29feb-63b9-4701-bf14-587c95876b9b
DTSTAMP:20260426T022347Z
SUMMARY:Maiandacht mit eucharistischem Segen
DESCRIPTION:https://pfarreien-bistum-augsburg.df-preview.de/maiandacht-mit-
 eucharistischem-segen_id1755113
DTSTART;TZID=Europe/Berlin:20260517T191500
DURATION:PT30M
LOCATION:St. Margareta
END:VEVENT
END:VCALENDAR
