BEGIN:VCALENDAR
VERSION:2.0
PRODID:-//Sabre//Sabre VObject 4.5.8//EN
CALSCALE:GREGORIAN
BEGIN:VEVENT
UID:sabre-vobject-ad3956b3-d5a9-4f72-a634-4d9fb09294fd
DTSTAMP:20260425T204738Z
SUMMARY:Heilige Messe
DESCRIPTION:https://pfarreien-bistum-augsburg.df-preview.de/heilige-messe_i
 d1755084
DTSTART;TZID=Europe/Berlin:20260510T081500
DURATION:PT30M
LOCATION:St. Margareta
END:VEVENT
END:VCALENDAR
