BEGIN:VCALENDAR
VERSION:2.0
PRODID:-//Sabre//Sabre VObject 4.5.8//EN
CALSCALE:GREGORIAN
BEGIN:VEVENT
UID:sabre-vobject-a42e4b7d-6cfd-49b8-b8d0-d8a2adec9c6b
DTSTAMP:20260425T192134Z
SUMMARY:Heilige Messe
DESCRIPTION:https://pfarreien-bistum-augsburg.df-preview.de/heilige-messe_i
 d1755083
DTSTART;TZID=Europe/Berlin:20260505T191500
DURATION:PT30M
LOCATION:St. Margareta
END:VEVENT
END:VCALENDAR
