BEGIN:VCALENDAR
VERSION:2.0
PRODID:-//Sabre//Sabre VObject 4.5.8//EN
CALSCALE:GREGORIAN
BEGIN:VEVENT
UID:sabre-vobject-6d2c0c59-049b-4fc3-8dcf-aa9308bd9008
DTSTAMP:20260424T101751Z
SUMMARY:Heilige Messe mit Trauung
DESCRIPTION:https://pfarreien-bistum-augsburg.df-preview.de/heilige-messe-m
 it-trauung_id1755069
DTSTART;TZID=Europe/Berlin:20260516T110000
DURATION:PT30M
LOCATION:St. Sixtus
END:VEVENT
END:VCALENDAR
