BEGIN:VCALENDAR
VERSION:2.0
PRODID:-//Sabre//Sabre VObject 4.5.8//EN
CALSCALE:GREGORIAN
BEGIN:VEVENT
UID:sabre-vobject-cf75987f-0485-46df-8268-6bb0dc4d8524
DTSTAMP:20260426T031618Z
SUMMARY:Hausjahrtag in der Kreuzbergkirche
DESCRIPTION:https://pfarreien-bistum-augsburg.df-preview.de/hausjahrtag-in-
 der-kreuzbergkirche_id1755045
DTSTART;TZID=Europe/Berlin:20260430T193000
DURATION:PT30M
LOCATION:St. Johannes Baptist
END:VEVENT
END:VCALENDAR
