BEGIN:VCALENDAR
VERSION:2.0
PRODID:-//Sabre//Sabre VObject 4.5.8//EN
CALSCALE:GREGORIAN
BEGIN:VEVENT
UID:sabre-vobject-e6feb47b-87dd-4e7c-94db-25ae260e8a0d
DTSTAMP:20260425T143928Z
SUMMARY:Dankgottesdienst der Erstkommunionkinder in der St. Norbertkapelle
DESCRIPTION:https://pfarreien-bistum-augsburg.df-preview.de/dankgottesdiens
 t-der-erstkommunionkinder-in-der-st-norbertkapelle_id1755043
DTSTART;TZID=Europe/Berlin:20260428T080000
DURATION:PT30M
LOCATION:St. Johannes Baptist
END:VEVENT
END:VCALENDAR
