BEGIN:VCALENDAR
VERSION:2.0
PRODID:-//Sabre//Sabre VObject 4.5.8//EN
CALSCALE:GREGORIAN
BEGIN:VEVENT
UID:sabre-vobject-5eb75cf3-4b41-4c41-890e-7ab05f6c215b
DTSTAMP:20260424T211346Z
SUMMARY:Festgottesdienst - Heilige Messe
DESCRIPTION:https://pfarreien-bistum-augsburg.df-preview.de/festgottesdiens
 t-heilige-messe_id1755031
DTSTART;TZID=Europe/Berlin:20260514T084500
DURATION:PT30M
LOCATION:St. Silvester
END:VEVENT
END:VCALENDAR
