BEGIN:VCALENDAR
VERSION:2.0
PRODID:-//Sabre//Sabre VObject 4.5.8//EN
CALSCALE:GREGORIAN
BEGIN:VEVENT
UID:sabre-vobject-6b214fb0-e8cc-4a8e-bdc2-366b1d5e60b9
DTSTAMP:20260423T163109Z
SUMMARY:Hintere Kapelle: Rosenkranz
DESCRIPTION:https://pfarreien-bistum-augsburg.df-preview.de/hintere-kapelle
 -rosenkranz_id1755027
DTSTART;TZID=Europe/Berlin:20260528T180000
DURATION:PT30M
LOCATION:St. Antonius
END:VEVENT
END:VCALENDAR
