BEGIN:VCALENDAR
VERSION:2.0
PRODID:-//Sabre//Sabre VObject 4.5.8//EN
CALSCALE:GREGORIAN
BEGIN:VEVENT
UID:sabre-vobject-6e0f1bd7-7518-462d-a6eb-bdb4e35578c3
DTSTAMP:20260424T132557Z
SUMMARY:Maiandacht an der Grotte\, Zelebrant Diakon B. Hölzle
DESCRIPTION:https://pfarreien-bistum-augsburg.df-preview.de/maiandacht-an-d
 er-grotte-zelebrant-diakon-b-hoelzle_id1755022
DTSTART;TZID=Europe/Berlin:20260531T191500
DURATION:PT30M
LOCATION:St. Magnus
END:VEVENT
END:VCALENDAR
