BEGIN:VCALENDAR
VERSION:2.0
PRODID:-//Sabre//Sabre VObject 4.5.8//EN
CALSCALE:GREGORIAN
BEGIN:VEVENT
UID:sabre-vobject-d1a36c94-86bf-453d-9726-7801d83236d4
DTSTAMP:20260424T092613Z
SUMMARY:Maiandacht in der Pfarrkirche\, gestaltet vom Frauenbund
DESCRIPTION:https://pfarreien-bistum-augsburg.df-preview.de/maiandacht-in-d
 er-pfarrkirche-gestaltet-vom-frauenbund_id1755012
DTSTART;TZID=Europe/Berlin:20260526T191500
DURATION:PT30M
LOCATION:St. Martin
END:VEVENT
END:VCALENDAR
