BEGIN:VCALENDAR
VERSION:2.0
PRODID:-//Sabre//Sabre VObject 4.5.8//EN
CALSCALE:GREGORIAN
BEGIN:VEVENT
UID:sabre-vobject-ab053035-9182-47ce-9998-0452ec98047b
DTSTAMP:20260425T134134Z
SUMMARY:Monatsrosenkranz
DESCRIPTION:https://pfarreien-bistum-augsburg.df-preview.de/monatsrosenkran
 z_id1754973
DTSTART;TZID=Europe/Berlin:20260501T184500
DURATION:PT30M
LOCATION:St. Nikolaus
END:VEVENT
END:VCALENDAR
