BEGIN:VCALENDAR
VERSION:2.0
PRODID:-//Sabre//Sabre VObject 4.5.8//EN
CALSCALE:GREGORIAN
BEGIN:VEVENT
UID:sabre-vobject-b895d862-ec01-4266-abbe-dad64e220d18
DTSTAMP:20260424T231011Z
SUMMARY:Festgottesdienst zum Patrozinium
DESCRIPTION:https://pfarreien-bistum-augsburg.df-preview.de/festgottesdiens
 t-zum-patrozinium_id1754928
DTSTART;TZID=Europe/Berlin:20260523T170000
DURATION:PT30M
LOCATION:Heilig Geist
END:VEVENT
END:VCALENDAR
